Back to Build/check report for BioC 3.14 annotations
ABCDEF[G]HIJKLMNOPQRSTUVWXYZ

This page was generated on 2022-01-19 06:00:08 -0500 (Wed, 19 Jan 2022).

HostnameOSArch (*)R versionInstalled pkgs
nebbiolo2Linux (Ubuntu 20.04.4 LTS)x86_644.1.2 (2021-11-01) -- "Bird Hippie" 4328
Click on any hostname to see more info about the system (e.g. compilers)      (*) as reported by 'uname -p', except on Windows and Mac OS X

All results for package gwascatData


To the developers/maintainers of the gwascatData package:
Make sure to use the following settings in order to reproduce any error or warning you see on this page.

raw results

Package 21/33HostnameOS / ArchINSTALLBUILDCHECK
gwascatData 0.99.6  (landing page)
Sara Stankiewicz
Snapshot Date: 2022-01-19 02:30:01 -0500 (Wed, 19 Jan 2022)
git_url: https://git.bioconductor.org/packages/gwascatData
git_branch: master
git_last_commit: cf9495a
git_last_commit_date: 2021-05-07 12:20:10 -0500 (Fri, 07 May 2021)
nebbiolo2Linux (Ubuntu 20.04.4 LTS) / x86_64  OK    OK    OK  UNNEEDED, same version is already published