Back to Build/check report for BioC 3.14 annotations
ABCDEF[G]HIJKLMNOPQRSTUVWXYZ

This page was generated on 2022-01-19 06:00:08 -0500 (Wed, 19 Jan 2022).

HostnameOSArch (*)R versionInstalled pkgs
nebbiolo2Linux (Ubuntu 20.04.4 LTS)x86_644.1.2 (2021-11-01) -- "Bird Hippie" 4328
Click on any hostname to see more info about the system (e.g. compilers)      (*) as reported by 'uname -p', except on Windows and Mac OS X

All results for package geneplast.data


To the developers/maintainers of the geneplast.data package:
Make sure to use the following settings in order to reproduce any error or warning you see on this page.

raw results

Package 18/33HostnameOS / ArchINSTALLBUILDCHECK
geneplast.data 0.99.5  (landing page)
Leonardo Campos
Snapshot Date: 2022-01-19 02:30:01 -0500 (Wed, 19 Jan 2022)
git_url: https://git.bioconductor.org/packages/geneplast.data
git_branch: master
git_last_commit: 1a5ebb5
git_last_commit_date: 2022-01-18 08:30:05 -0500 (Tue, 18 Jan 2022)
nebbiolo2Linux (Ubuntu 20.04.4 LTS) / x86_64  OK    OK    OK  YES