Back to Build/check report for BioC 3.14 annotations
ABCD[E]FGHIJKLMNOPQRSTUVWXYZ

This page was generated on 2022-01-19 06:00:08 -0500 (Wed, 19 Jan 2022).

HostnameOSArch (*)R versionInstalled pkgs
nebbiolo2Linux (Ubuntu 20.04.4 LTS)x86_644.1.2 (2021-11-01) -- "Bird Hippie" 4328
Click on any hostname to see more info about the system (e.g. compilers)      (*) as reported by 'uname -p', except on Windows and Mac OS X

BUILD results for excluderanges on nebbiolo2


To the developers/maintainers of the excluderanges package:
Make sure to use the following settings in order to reproduce any error or warning you see on this page.

raw results

Package 17/33HostnameOS / ArchINSTALLBUILDCHECK
excluderanges 0.99.6  (landing page)
Mikhail Dozmorov
Snapshot Date: 2022-01-19 02:30:01 -0500 (Wed, 19 Jan 2022)
git_url: https://git.bioconductor.org/packages/excluderanges
git_branch: master
git_last_commit: 699dd28
git_last_commit_date: 2021-10-18 21:30:13 -0500 (Mon, 18 Oct 2021)
nebbiolo2Linux (Ubuntu 20.04.4 LTS) / x86_64  OK    OK    OK  UNNEEDED, same version is already published

Summary

Package: excluderanges
Version: 0.99.6
Command: /home/biocbuild/bbs-3.14-bioc/R/bin/R CMD build --keep-empty-dirs --no-resave-data excluderanges
StartedAt: 2022-01-19 03:00:54 -0500 (Wed, 19 Jan 2022)
EndedAt: 2022-01-19 03:01:28 -0500 (Wed, 19 Jan 2022)
EllapsedTime: 34.8 seconds
RetCode: 0
Status:   OK  
PackageFile: excluderanges_0.99.6.tar.gz
PackageFileSize: 1.368 MiB

Command output

##############################################################################
##############################################################################
###
### Running command:
###
###   /home/biocbuild/bbs-3.14-bioc/R/bin/R CMD build --keep-empty-dirs --no-resave-data excluderanges
###
##############################################################################
##############################################################################


* checking for file ‘excluderanges/DESCRIPTION’ ... OK
* preparing ‘excluderanges’:
* checking DESCRIPTION meta-information ... OK
* installing the package to build vignettes
* creating vignettes ... OK
* checking for LF line-endings in source and make files and shell scripts
* checking for empty or unneeded directories
* building ‘excluderanges_0.99.6.tar.gz’