Name | Last modified | Size | Description | |
---|---|---|---|---|
Parent Directory | - | |||
buildsrc-out.txt | 13-Apr-2022 19:00 | 826 | ||
buildsrc-summary.dcf | 13-Apr-2022 19:00 | 431 | ||
checksrc-out.txt | 13-Apr-2022 19:00 | 2.5K | ||
checksrc-summary.dcf | 13-Apr-2022 19:00 | 442 | ||
install-out.txt | 13-Apr-2022 19:00 | 955 | ||
install-summary.dcf | 13-Apr-2022 19:00 | 268 | ||