Back to Build/check report for BioC 3.14 annotations
ABCDEFGHIJKLMNO[P]QRSTUVWXYZ

This page was generated on 2022-01-19 06:00:08 -0500 (Wed, 19 Jan 2022).

HostnameOSArch (*)R versionInstalled pkgs
nebbiolo2Linux (Ubuntu 20.04.4 LTS)x86_644.1.2 (2021-11-01) -- "Bird Hippie" 4328
Click on any hostname to see more info about the system (e.g. compilers)      (*) as reported by 'uname -p', except on Windows and Mac OS X

BUILD results for PANTHER.db on nebbiolo2


To the developers/maintainers of the PANTHER.db package:
Make sure to use the following settings in order to reproduce any error or warning you see on this page.

raw results

Package 27/33HostnameOS / ArchINSTALLBUILDCHECK
PANTHER.db 1.0.10  (landing page)
Julius Muller
Snapshot Date: 2022-01-19 02:30:01 -0500 (Wed, 19 Jan 2022)
git_url: https://git.bioconductor.org/packages/PANTHER.db
git_branch: master
git_last_commit: 191928c
git_last_commit_date: 2021-03-05 12:46:43 -0500 (Fri, 05 Mar 2021)
nebbiolo2Linux (Ubuntu 20.04.4 LTS) / x86_64  OK    OK    OK  NO, version to propagate (1.0.10) is lower than published version (1.0.11)

Summary

Package: PANTHER.db
Version: 1.0.10
Command: /home/biocbuild/bbs-3.14-bioc/R/bin/R CMD build --keep-empty-dirs --no-resave-data PANTHER.db
StartedAt: 2022-01-19 03:01:22 -0500 (Wed, 19 Jan 2022)
EndedAt: 2022-01-19 03:01:52 -0500 (Wed, 19 Jan 2022)
EllapsedTime: 30.2 seconds
RetCode: 0
Status:   OK  
PackageFile: PANTHER.db_1.0.10.tar.gz
PackageFileSize: 316.6 KiB

Command output

##############################################################################
##############################################################################
###
### Running command:
###
###   /home/biocbuild/bbs-3.14-bioc/R/bin/R CMD build --keep-empty-dirs --no-resave-data PANTHER.db
###
##############################################################################
##############################################################################


* checking for file ‘PANTHER.db/DESCRIPTION’ ... OK
* preparing ‘PANTHER.db’:
* checking DESCRIPTION meta-information ... OK
* installing the package to build vignettes
* creating vignettes ... OK
Warning: ‘inst/doc’ files
    ‘PANTHER.db.Rmd’, ‘PANTHER.db.html’
  ignored as vignettes have been rebuilt.
  Run R CMD build with --no-build-vignettes to prevent rebuilding.
* excluding invalid files
Subdirectory 'man' contains invalid file names:
  ‘PANTHERDB-class.R’
* checking for LF line-endings in source and make files and shell scripts
* checking for empty or unneeded directories
* building ‘PANTHER.db_1.0.10.tar.gz’