Back to Build/check report for BioC 3.14 annotations
ABCDEFGHI[J]KLMNOPQRSTUVWXYZ

This page was generated on 2022-01-19 06:00:08 -0500 (Wed, 19 Jan 2022).

HostnameOSArch (*)R versionInstalled pkgs
nebbiolo2Linux (Ubuntu 20.04.4 LTS)x86_644.1.2 (2021-11-01) -- "Bird Hippie" 4328
Click on any hostname to see more info about the system (e.g. compilers)      (*) as reported by 'uname -p', except on Windows and Mac OS X

BUILD results for JASPAR2020 on nebbiolo2


To the developers/maintainers of the JASPAR2020 package:
Make sure to use the following settings in order to reproduce any error or warning you see on this page.

raw results

Package 23/33HostnameOS / ArchINSTALLBUILDCHECK
JASPAR2020 0.99.8  (landing page)
Damir Baranasic
Snapshot Date: 2022-01-19 02:30:01 -0500 (Wed, 19 Jan 2022)
git_url: https://git.bioconductor.org/packages/JASPAR2020
git_branch: master
git_last_commit: 2299aa5
git_last_commit_date: 2019-10-20 15:15:44 -0500 (Sun, 20 Oct 2019)
nebbiolo2Linux (Ubuntu 20.04.4 LTS) / x86_64  OK    OK    OK  NO, version to propagate (0.99.8) is lower than published version (0.99.10)

Summary

Package: JASPAR2020
Version: 0.99.8
Command: /home/biocbuild/bbs-3.14-bioc/R/bin/R CMD build --keep-empty-dirs --no-resave-data JASPAR2020
StartedAt: 2022-01-19 03:01:05 -0500 (Wed, 19 Jan 2022)
EndedAt: 2022-01-19 03:01:25 -0500 (Wed, 19 Jan 2022)
EllapsedTime: 19.3 seconds
RetCode: 0
Status:   OK  
PackageFile: JASPAR2020_0.99.8.tar.gz
PackageFileSize: 9.99 MiB

Command output

##############################################################################
##############################################################################
###
### Running command:
###
###   /home/biocbuild/bbs-3.14-bioc/R/bin/R CMD build --keep-empty-dirs --no-resave-data JASPAR2020
###
##############################################################################
##############################################################################


* checking for file ‘JASPAR2020/DESCRIPTION’ ... OK
* preparing ‘JASPAR2020’:
* checking DESCRIPTION meta-information ... OK
* installing the package to build vignettes
* creating vignettes ... OK
* checking for LF line-endings in source and make files and shell scripts
* checking for empty or unneeded directories
Omitted ‘LazyData’ from DESCRIPTION
* building ‘JASPAR2020_0.99.8.tar.gz’