Back to Build/check report for BioC 3.14 annotations
ABCDEF[G]HIJKLMNOPQRSTUVWXYZ

This page was generated on 2022-01-19 06:00:08 -0500 (Wed, 19 Jan 2022).

HostnameOSArch (*)R versionInstalled pkgs
nebbiolo2Linux (Ubuntu 20.04.4 LTS)x86_644.1.2 (2021-11-01) -- "Bird Hippie" 4328
Click on any hostname to see more info about the system (e.g. compilers)      (*) as reported by 'uname -p', except on Windows and Mac OS X

BUILD results for GeneSummary on nebbiolo2


To the developers/maintainers of the GeneSummary package:
Make sure to use the following settings in order to reproduce any error or warning you see on this page.

raw results

Package 19/33HostnameOS / ArchINSTALLBUILDCHECK
GeneSummary 0.99.3  (landing page)
Zuguang Gu
Snapshot Date: 2022-01-19 02:30:01 -0500 (Wed, 19 Jan 2022)
git_url: https://git.bioconductor.org/packages/GeneSummary
git_branch: master
git_last_commit: b9b75e5
git_last_commit_date: 2021-09-29 03:33:18 -0500 (Wed, 29 Sep 2021)
nebbiolo2Linux (Ubuntu 20.04.4 LTS) / x86_64  OK    OK    OK  UNNEEDED, same version is already published

Summary

Package: GeneSummary
Version: 0.99.3
Command: /home/biocbuild/bbs-3.14-bioc/R/bin/R CMD build --keep-empty-dirs --no-resave-data GeneSummary
StartedAt: 2022-01-19 03:01:02 -0500 (Wed, 19 Jan 2022)
EndedAt: 2022-01-19 03:01:05 -0500 (Wed, 19 Jan 2022)
EllapsedTime: 2.9 seconds
RetCode: 0
Status:   OK  
PackageFile: GeneSummary_0.99.3.tar.gz
PackageFileSize: 2.052 MiB

Command output

##############################################################################
##############################################################################
###
### Running command:
###
###   /home/biocbuild/bbs-3.14-bioc/R/bin/R CMD build --keep-empty-dirs --no-resave-data GeneSummary
###
##############################################################################
##############################################################################


* checking for file ‘GeneSummary/DESCRIPTION’ ... OK
* preparing ‘GeneSummary’:
* checking DESCRIPTION meta-information ... OK
* installing the package to build vignettes
* creating vignettes ... OK
* checking for LF line-endings in source and make files and shell scripts
* checking for empty or unneeded directories
* building ‘GeneSummary_0.99.3.tar.gz’