Back to Build/check report for BioC 3.14 annotations
ABCD[E]FGHIJKLMNOPQRSTUVWXYZ

This page was generated on 2022-01-19 06:00:08 -0500 (Wed, 19 Jan 2022).

HostnameOSArch (*)R versionInstalled pkgs
nebbiolo2Linux (Ubuntu 20.04.4 LTS)x86_644.1.2 (2021-11-01) -- "Bird Hippie" 4328
Click on any hostname to see more info about the system (e.g. compilers)      (*) as reported by 'uname -p', except on Windows and Mac OS X

BUILD results for EpiTxDb.Sc.sacCer3 on nebbiolo2


To the developers/maintainers of the EpiTxDb.Sc.sacCer3 package:
Make sure to use the following settings in order to reproduce any error or warning you see on this page.

raw results

Package 15/33HostnameOS / ArchINSTALLBUILDCHECK
EpiTxDb.Sc.sacCer3 0.99.5  (landing page)
Felix G.M. Ernst
Snapshot Date: 2022-01-19 02:30:01 -0500 (Wed, 19 Jan 2022)
git_url: https://git.bioconductor.org/packages/EpiTxDb.Sc.sacCer3
git_branch: master
git_last_commit: bf65d31
git_last_commit_date: 2021-01-14 10:52:42 -0500 (Thu, 14 Jan 2021)
nebbiolo2Linux (Ubuntu 20.04.4 LTS) / x86_64  OK    OK    OK  UNNEEDED, same version is already published

Summary

Package: EpiTxDb.Sc.sacCer3
Version: 0.99.5
Command: /home/biocbuild/bbs-3.14-bioc/R/bin/R CMD build --keep-empty-dirs --no-resave-data EpiTxDb.Sc.sacCer3
StartedAt: 2022-01-19 03:00:52 -0500 (Wed, 19 Jan 2022)
EndedAt: 2022-01-19 03:01:37 -0500 (Wed, 19 Jan 2022)
EllapsedTime: 45.2 seconds
RetCode: 0
Status:   OK  
PackageFile: EpiTxDb.Sc.sacCer3_0.99.5.tar.gz
PackageFileSize: 288.9 KiB

Command output

##############################################################################
##############################################################################
###
### Running command:
###
###   /home/biocbuild/bbs-3.14-bioc/R/bin/R CMD build --keep-empty-dirs --no-resave-data EpiTxDb.Sc.sacCer3
###
##############################################################################
##############################################################################


* checking for file ‘EpiTxDb.Sc.sacCer3/DESCRIPTION’ ... OK
* preparing ‘EpiTxDb.Sc.sacCer3’:
* checking DESCRIPTION meta-information ... OK
* installing the package to build vignettes
* creating vignettes ... OK
* checking for LF line-endings in source and make files and shell scripts
* checking for empty or unneeded directories
Omitted ‘LazyData’ from DESCRIPTION
* building ‘EpiTxDb.Sc.sacCer3_0.99.5.tar.gz’