Back to Build/check report for BioC 3.14 annotations
ABCD[E]FGHIJKLMNOPQRSTUVWXYZ

This page was generated on 2022-01-19 06:00:08 -0500 (Wed, 19 Jan 2022).

HostnameOSArch (*)R versionInstalled pkgs
nebbiolo2Linux (Ubuntu 20.04.4 LTS)x86_644.1.2 (2021-11-01) -- "Bird Hippie" 4328
Click on any hostname to see more info about the system (e.g. compilers)      (*) as reported by 'uname -p', except on Windows and Mac OS X

INSTALL results for EpiTxDb.Hs.hg38 on nebbiolo2


To the developers/maintainers of the EpiTxDb.Hs.hg38 package:
Make sure to use the following settings in order to reproduce any error or warning you see on this page.

raw results

Package 13/33HostnameOS / ArchINSTALLBUILDCHECK
EpiTxDb.Hs.hg38 0.99.7  (landing page)
Felix G.M. Ernst
Snapshot Date: 2022-01-19 02:30:01 -0500 (Wed, 19 Jan 2022)
git_url: https://git.bioconductor.org/packages/EpiTxDb.Hs.hg38
git_branch: master
git_last_commit: 135951c
git_last_commit_date: 2020-09-15 12:53:29 -0500 (Tue, 15 Sep 2020)
nebbiolo2Linux (Ubuntu 20.04.4 LTS) / x86_64  OK    OK    OK  UNNEEDED, same version is already published

Summary

Package: EpiTxDb.Hs.hg38
Version: 0.99.7
Command: /home/biocbuild/bbs-3.14-bioc/R/bin/R CMD INSTALL EpiTxDb.Hs.hg38
StartedAt: 2022-01-19 03:00:16 -0500 (Wed, 19 Jan 2022)
EndedAt: 2022-01-19 03:00:43 -0500 (Wed, 19 Jan 2022)
EllapsedTime: 26.6 seconds
RetCode: 0
Status:   OK  

Command output

##############################################################################
##############################################################################
###
### Running command:
###
###   /home/biocbuild/bbs-3.14-bioc/R/bin/R CMD INSTALL EpiTxDb.Hs.hg38
###
##############################################################################
##############################################################################


* installing to library ‘/home/biocbuild/bbs-3.14-bioc/R/library’
* installing *source* package ‘EpiTxDb.Hs.hg38’ ...
** using staged installation
** R
** inst
** byte-compile and prepare package for lazy loading
** help
*** installing help indices
** building package indices
** installing vignettes
** testing if installed package can be loaded from temporary location
** testing if installed package can be loaded from final location
** testing if installed package keeps a record of temporary installation path
* DONE (EpiTxDb.Hs.hg38)