Back to Build/check report for BioC 3.14 annotations
AB[C]DEFGHIJKLMNOPQRSTUVWXYZ

This page was generated on 2022-01-19 06:00:08 -0500 (Wed, 19 Jan 2022).

HostnameOSArch (*)R versionInstalled pkgs
nebbiolo2Linux (Ubuntu 20.04.4 LTS)x86_644.1.2 (2021-11-01) -- "Bird Hippie" 4328
Click on any hostname to see more info about the system (e.g. compilers)      (*) as reported by 'uname -p', except on Windows and Mac OS X

BUILD results for CTCF on nebbiolo2


To the developers/maintainers of the CTCF package:
Make sure to use the following settings in order to reproduce any error or warning you see on this page.

raw results

Package 11/33HostnameOS / ArchINSTALLBUILDCHECK
CTCF 0.99.4  (landing page)
Mikhail Dozmorov
Snapshot Date: 2022-01-19 02:30:01 -0500 (Wed, 19 Jan 2022)
git_url: https://git.bioconductor.org/packages/CTCF
git_branch: master
git_last_commit: e6880e4
git_last_commit_date: 2021-06-09 16:47:26 -0500 (Wed, 09 Jun 2021)
nebbiolo2Linux (Ubuntu 20.04.4 LTS) / x86_64  OK    OK    WARNINGS  UNNEEDED, same version is already published

Summary

Package: CTCF
Version: 0.99.4
Command: /home/biocbuild/bbs-3.14-bioc/R/bin/R CMD build --keep-empty-dirs --no-resave-data CTCF
StartedAt: 2022-01-19 03:00:50 -0500 (Wed, 19 Jan 2022)
EndedAt: 2022-01-19 03:01:02 -0500 (Wed, 19 Jan 2022)
EllapsedTime: 11.9 seconds
RetCode: 0
Status:   OK  
PackageFile: CTCF_0.99.4.tar.gz
PackageFileSize: 366.6 KiB

Command output

##############################################################################
##############################################################################
###
### Running command:
###
###   /home/biocbuild/bbs-3.14-bioc/R/bin/R CMD build --keep-empty-dirs --no-resave-data CTCF
###
##############################################################################
##############################################################################


* checking for file ‘CTCF/DESCRIPTION’ ... OK
* preparing ‘CTCF’:
* checking DESCRIPTION meta-information ... OK
* installing the package to build vignettes
* creating vignettes ... OK
* checking for LF line-endings in source and make files and shell scripts
* checking for empty or unneeded directories
* building ‘CTCF_0.99.4.tar.gz’