Back to Build/check report for BioC 3.14 annotations
[A]BCDEFGHIJKLMNOPQRSTUVWXYZ

This page was generated on 2022-01-19 06:00:08 -0500 (Wed, 19 Jan 2022).

HostnameOSArch (*)R versionInstalled pkgs
nebbiolo2Linux (Ubuntu 20.04.4 LTS)x86_644.1.2 (2021-11-01) -- "Bird Hippie" 4328
Click on any hostname to see more info about the system (e.g. compilers)      (*) as reported by 'uname -p', except on Windows and Mac OS X

INSTALL results for AHMeSHDbs on nebbiolo2


To the developers/maintainers of the AHMeSHDbs package:
Make sure to use the following settings in order to reproduce any error or warning you see on this page.

raw results

Package 4/33HostnameOS / ArchINSTALLBUILDCHECK
AHMeSHDbs 0.99.6  (landing page)
Koki Tsuyuzaki
Snapshot Date: 2022-01-19 02:30:01 -0500 (Wed, 19 Jan 2022)
git_url: https://git.bioconductor.org/packages/AHMeSHDbs
git_branch: master
git_last_commit: 052e156
git_last_commit_date: 2021-04-21 00:16:13 -0500 (Wed, 21 Apr 2021)
nebbiolo2Linux (Ubuntu 20.04.4 LTS) / x86_64  OK    OK    OK  NO, version to propagate (0.99.6) is lower than published version (1.2.0)

Summary

Package: AHMeSHDbs
Version: 0.99.6
Command: /home/biocbuild/bbs-3.14-bioc/R/bin/R CMD INSTALL AHMeSHDbs
StartedAt: 2022-01-19 03:00:07 -0500 (Wed, 19 Jan 2022)
EndedAt: 2022-01-19 03:00:09 -0500 (Wed, 19 Jan 2022)
EllapsedTime: 1.7 seconds
RetCode: 0
Status:   OK  

Command output

##############################################################################
##############################################################################
###
### Running command:
###
###   /home/biocbuild/bbs-3.14-bioc/R/bin/R CMD INSTALL AHMeSHDbs
###
##############################################################################
##############################################################################


* installing to library ‘/home/biocbuild/bbs-3.14-bioc/R/library’
* installing *source* package ‘AHMeSHDbs’ ...
** using staged installation
** inst
** help
*** installing help indices
** building package indices
** installing vignettes
** testing if installed package can be loaded from temporary location
** testing if installed package can be loaded from final location
** testing if installed package keeps a record of temporary installation path
* DONE (AHMeSHDbs)