Back to Build/check report for BioC 3.14 annotations
[A]BCDEFGHIJKLMNOPQRSTUVWXYZ

This page was generated on 2022-01-19 06:00:08 -0500 (Wed, 19 Jan 2022).

HostnameOSArch (*)R versionInstalled pkgs
nebbiolo2Linux (Ubuntu 20.04.4 LTS)x86_644.1.2 (2021-11-01) -- "Bird Hippie" 4328
Click on any hostname to see more info about the system (e.g. compilers)      (*) as reported by 'uname -p', except on Windows and Mac OS X

BUILD results for AHLRBaseDbs on nebbiolo2


To the developers/maintainers of the AHLRBaseDbs package:
Make sure to use the following settings in order to reproduce any error or warning you see on this page.

raw results

Package 3/33HostnameOS / ArchINSTALLBUILDCHECK
AHLRBaseDbs 0.99.3  (landing page)
Koki Tsuyuzaki
Snapshot Date: 2022-01-19 02:30:01 -0500 (Wed, 19 Jan 2022)
git_url: https://git.bioconductor.org/packages/AHLRBaseDbs
git_branch: master
git_last_commit: c0e6555
git_last_commit_date: 2021-04-21 00:15:17 -0500 (Wed, 21 Apr 2021)
nebbiolo2Linux (Ubuntu 20.04.4 LTS) / x86_64  OK    OK    OK  NO, version to propagate (0.99.3) is lower than published version (1.2.0)

Summary

Package: AHLRBaseDbs
Version: 0.99.3
Command: /home/biocbuild/bbs-3.14-bioc/R/bin/R CMD build --keep-empty-dirs --no-resave-data AHLRBaseDbs
StartedAt: 2022-01-19 03:00:50 -0500 (Wed, 19 Jan 2022)
EndedAt: 2022-01-19 03:01:02 -0500 (Wed, 19 Jan 2022)
EllapsedTime: 12.2 seconds
RetCode: 0
Status:   OK  
PackageFile: AHLRBaseDbs_0.99.3.tar.gz
PackageFileSize: 288 KiB

Command output

##############################################################################
##############################################################################
###
### Running command:
###
###   /home/biocbuild/bbs-3.14-bioc/R/bin/R CMD build --keep-empty-dirs --no-resave-data AHLRBaseDbs
###
##############################################################################
##############################################################################


* checking for file ‘AHLRBaseDbs/DESCRIPTION’ ... OK
* preparing ‘AHLRBaseDbs’:
* checking DESCRIPTION meta-information ... OK
* installing the package to process help pages
* saving partial Rd database
* creating vignettes ... OK
* checking for LF line-endings in source and make files and shell scripts
* checking for empty or unneeded directories
* creating default NAMESPACE file
* building ‘AHLRBaseDbs_0.99.3.tar.gz’