Name | Last modified | Size | Description | |
---|---|---|---|---|
Parent Directory | - | |||
buildsrc-out.txt | 13-Apr-2022 19:00 | 809 | ||
buildsrc-summary.dcf | 13-Apr-2022 19:00 | 418 | ||
checksrc-out.txt | 13-Apr-2022 19:00 | 2.3K | ||
checksrc-summary.dcf | 13-Apr-2022 19:00 | 425 | ||
install-out.txt | 13-Apr-2022 19:00 | 939 | ||
install-summary.dcf | 13-Apr-2022 19:00 | 260 | ||