Back to Build/check report for BioC 3.14 annotations
[A]BCDEFGHIJKLMNOPQRSTUVWXYZ

This page was generated on 2022-01-19 06:00:08 -0500 (Wed, 19 Jan 2022).

HostnameOSArch (*)R versionInstalled pkgs
nebbiolo2Linux (Ubuntu 20.04.4 LTS)x86_644.1.2 (2021-11-01) -- "Bird Hippie" 4328
Click on any hostname to see more info about the system (e.g. compilers)      (*) as reported by 'uname -p', except on Windows and Mac OS X

BUILD results for AHCytoBands on nebbiolo2


To the developers/maintainers of the AHCytoBands package:
Make sure to use the following settings in order to reproduce any error or warning you see on this page.

raw results

Package 1/33HostnameOS / ArchINSTALLBUILDCHECK
AHCytoBands 0.99.1  (landing page)
Michael Lawrence
Snapshot Date: 2022-01-19 02:30:01 -0500 (Wed, 19 Jan 2022)
git_url: https://git.bioconductor.org/packages/AHCytoBands
git_branch: master
git_last_commit: 821428c
git_last_commit_date: 2021-02-08 13:43:11 -0500 (Mon, 08 Feb 2021)
nebbiolo2Linux (Ubuntu 20.04.4 LTS) / x86_64  OK    OK    OK  UNNEEDED, same version is already published

Summary

Package: AHCytoBands
Version: 0.99.1
Command: /home/biocbuild/bbs-3.14-bioc/R/bin/R CMD build --keep-empty-dirs --no-resave-data AHCytoBands
StartedAt: 2022-01-19 03:00:50 -0500 (Wed, 19 Jan 2022)
EndedAt: 2022-01-19 03:00:51 -0500 (Wed, 19 Jan 2022)
EllapsedTime: 1.0 seconds
RetCode: 0
Status:   OK  
PackageFile: AHCytoBands_0.99.1.tar.gz
PackageFileSize: 2.027 KiB

Command output

##############################################################################
##############################################################################
###
### Running command:
###
###   /home/biocbuild/bbs-3.14-bioc/R/bin/R CMD build --keep-empty-dirs --no-resave-data AHCytoBands
###
##############################################################################
##############################################################################


* checking for file ‘AHCytoBands/DESCRIPTION’ ... OK
* preparing ‘AHCytoBands’:
* checking DESCRIPTION meta-information ... OK
* checking for LF line-endings in source and make files and shell scripts
* checking for empty or unneeded directories
* building ‘AHCytoBands_0.99.1.tar.gz’