Build/check report for BioC 3.14 annotations

This page was generated on 2021-11-24 07:00:06 -0500 (Wed, 24 Nov 2021).

Approx. Package Snapshot Date (git pull): 2021-11-24 03:30:01 -0500 (Wed, 24 Nov 2021)

HostnameOSArch (*)Platform label (**)R versionInstalled pkgs
nebbiolo2Linux (Ubuntu 20.04.3 LTS)x86_64x86_64-linux-gnu4.1.2 (2021-11-01) -- "Bird Hippie" 4323
Click on any hostname to see more info about the system (e.g. compilers)      (*) as reported by 'uname -p', except on Windows and Mac OS X      (**) as reported by 'gcc -v'

Package status is indicated by one of the following glyphs
  TIMEOUT  
INSTALL, BUILD, CHECK or BUILD BIN of package took more than 40 minutes
  ERROR  
Bad DESCRIPTION file or INSTALL, BUILD or BUILD BIN of package failed, or CHECK produced errors
  WARNINGS  
CHECK of package produced warnings
  OK  
INSTALL, BUILD, CHECK or BUILD BIN of package was OK
skipped
CHECK or BUILD BIN of package was skipped because the BUILD step failed
  NA  
BUILD, CHECK or BUILD BIN result is not available because of an anomaly in the Build System
Click on any glyph in the report below to access the detailed report.
Package propagation status is indicated by one of the following LEDs
YES YES: Package was propagated because it didn't previously exist or version was bumped
NO NO: Package was not propagated because of a problem (impossible dependencies, or version lower than what is already propagated)
UNNEEDED UNNEEDED: Package was not propagated because it is already in the repository with this version. A version bump is required in order to propagate it

A crossed-out package name indicates the package is deprecated


QUICK STATSOS / ArchINSTALLBUILDCHECK
nebbiolo2Linux (Ubuntu 20.04.3 LTS) / x86_64
0033
0132
01130
A
ABCDEFGHIJKLMNOPQRSTUVWXYZ
PackageMaintainerINSTALLBUILDCHECK
1/33AHCytoBands 0.99.1  (landing page)Michael Lawrence  OK    OK    OK  UNNEEDED, same version is already published
2/33AHEnsDbs 1.1.2  (landing page)Johannes Rainer  OK    OK    OK  UNNEEDED, same version is already published
3/33AHLRBaseDbs 0.99.3  (landing page)Koki Tsuyuzaki  OK    OK    OK  NO, version to propagate (0.99.3) is lower than published version (1.2.0)
4/33AHMeSHDbs 0.99.6  (landing page)Koki Tsuyuzaki  OK    OK    OK  NO, version to propagate (0.99.6) is lower than published version (1.2.0)
5/33AHPathbankDbs 0.99.5  (landing page)Kozo Nishida  OK    OK    OK  UNNEEDED, same version is already published
6/33AHPubMedDbs 0.99.8  (landing page)Koki Tsuyuzaki  OK    OK    OK  NO, version to propagate (0.99.8) is lower than published version (1.2.0)
7/33AHWikipathwaysDbs 0.99.4  (landing page)Kozo Nishida  OK    OK    OK  UNNEEDED, same version is already published
8/33alternativeSplicingEvents.hg19 1.1.0  (landing page)Nuno Agostinho  OK    OK    OK  UNNEEDED, same version is already published
9/33alternativeSplicingEvents.hg38 1.1.0  (landing page)Nuno Agostinho  OK    OK    OK  UNNEEDED, same version is already published
C
ABCDEFGHIJKLMNOPQRSTUVWXYZ
PackageMaintainerINSTALLBUILDCHECK
10/33chromhmmData 0.99.2  (landing page)Mahmoud Ahmed  OK    OK    OK  UNNEEDED, same version is already published
11/33CTCF 0.99.4  (landing page)Mikhail Dozmorov  OK    OK    WARNINGS  UNNEEDED, same version is already published
E
ABCDEFGHIJKLMNOPQRSTUVWXYZ
PackageMaintainerINSTALLBUILDCHECK
12/33ENCODExplorerData 0.99.5  (landing page)Eric Fournier  OK    OK    OK  UNNEEDED, same version is already published
13/33EpiTxDb.Hs.hg38 0.99.7  (landing page)Felix G.M. Ernst  OK    OK    OK  UNNEEDED, same version is already published
14/33EpiTxDb.Mm.mm10 0.99.6  (landing page)Felix G.M. Ernst  OK    OK    OK  UNNEEDED, same version is already published
15/33EpiTxDb.Sc.sacCer3 0.99.5  (landing page)Felix G.M. Ernst  OK    OK    OK  UNNEEDED, same version is already published
16/33EuPathDB 1.0.1  (landing page)Keith Hughitt  OK    ERROR  skipped
17/33excluderanges 0.99.6  (landing page)Mikhail Dozmorov  OK    OK    OK  UNNEEDED, same version is already published
G
ABCDEFGHIJKLMNOPQRSTUVWXYZ
PackageMaintainerINSTALLBUILDCHECK
18/33geneplast.data 0.99.4  (landing page)Leonardo Campos  OK    OK    OK  UNNEEDED, same version is already published
19/33GeneSummary 0.99.3  (landing page)Zuguang Gu  OK    OK    OK  UNNEEDED, same version is already published
20/33GenomicState 0.99.15  (landing page)Leonardo Collado-Torres  OK    OK    ERROR  
21/33gwascatData 0.99.6  (landing page)Sara Stankiewicz  OK    OK    OK  UNNEEDED, same version is already published
H
ABCDEFGHIJKLMNOPQRSTUVWXYZ
PackageMaintainerINSTALLBUILDCHECK
22/33hpAnnot 1.1.0  (landing page)Marta R. Hidalgo  OK    OK    OK  UNNEEDED, same version is already published
J
ABCDEFGHIJKLMNOPQRSTUVWXYZ
PackageMaintainerINSTALLBUILDCHECK
23/33JASPAR2020 0.99.8  (landing page)Damir Baranasic  OK    OK    OK  NO, version to propagate (0.99.8) is lower than published version (0.99.10)
M
ABCDEFGHIJKLMNOPQRSTUVWXYZ
PackageMaintainerINSTALLBUILDCHECK
24/33metaboliteIDmapping 0.99.10  (landing page)Sebastian Canzler  OK    OK    OK  NO, version to propagate (0.99.10) is lower than published version (1.0.0)
O
ABCDEFGHIJKLMNOPQRSTUVWXYZ
PackageMaintainerINSTALLBUILDCHECK
25/33ontoProcData 0.99.9  (landing page)Sara Stankiewicz  OK    OK    OK  UNNEEDED, same version is already published
26/33org.Mxanthus.db 1.0.27  (landing page)Eduardo Illueca Fern├índez  OK    OK    OK  UNNEEDED, same version is already published
P
ABCDEFGHIJKLMNOPQRSTUVWXYZ
PackageMaintainerINSTALLBUILDCHECK
27/33PANTHER.db 1.0.10  (landing page)Julius Muller  OK    OK    OK  NO, version to propagate (1.0.10) is lower than published version (1.0.11)
28/33phastCons30way.UCSC.hg38 3.13.0  (landing page)Robert Castelo  OK    OK    OK  UNNEEDED, same version is already published
R
ABCDEFGHIJKLMNOPQRSTUVWXYZ
PackageMaintainerINSTALLBUILDCHECK
29/33rat2302frmavecs 0.99.11  (landing page)Sylvain Gubian  OK    OK    OK  UNNEEDED, same version is already published
30/33rGenomeTracksData 0.99.0  (landing page)Omar Elashkar  OK    OK    OK  UNNEEDED, same version is already published
S
ABCDEFGHIJKLMNOPQRSTUVWXYZ
PackageMaintainerINSTALLBUILDCHECK
31/33scAnnotatR.models 0.99.10  (landing page)Johannes Griss  OK    OK    OK  UNNEEDED, same version is already published
32/33synaptome.data 0.99.3  (landing page)Oksana Sorokina  OK    OK    OK  UNNEEDED, same version is already published
33/33synaptome.db 0.99.8  (landing page)Oksana Sorokina  OK    OK    OK  UNNEEDED, same version is already published