Index of /checkResults/3.14/books-LATEST/OSCA.advanced/raw-results
Name
Last modified
Size
Description
Parent Directory
-
info.dcf
09-Apr-2022 03:00
300
nebbiolo2/
09-Apr-2022 03:00
-