Back to Books build report for BioC 3.14

This page was generated on 2021-10-22 15:00:05 -0400 (Fri, 22 Oct 2021).

All results for package OSCA.advanced

To the developers/maintainers of the OSCA.advanced package:
Make sure to use the following settings in order to reproduce any error or warning you see on this page.

raw results

Package 3/8HostnameOS / ArchINSTALLBUILD
OSCA.advanced 1.1.1  (landing page)
Aaron Lun
Snapshot Date: 2021-10-22 07:50:01 -0400 (Fri, 22 Oct 2021)
git_url: https://git.bioconductor.org/packages/OSCA.advanced
git_branch: master
git_last_commit: 4691001
git_last_commit_date: 2021-10-16 14:30:14 -0400 (Sat, 16 Oct 2021)
nebbiolo2Linux (Ubuntu 20.04.2 LTS) / x86_64  OK    OK  UNNEEDED, same version is already published