Index of /checkResults/3.14/bioc-longtests-LATEST/xcms/raw-results/riesling1
Name
Last modified
Size
Description
Parent Directory
-
checksrc-summary.dcf
10-Apr-2022 10:00
453
buildsrc-summary.dcf
10-Apr-2022 10:00
473
buildsrc-out.txt
10-Apr-2022 10:00
859
checksrc-out.txt
10-Apr-2022 10:00
11K