Index of /checkResults/3.14/bioc-longtests-LATEST/xcms/raw-results/nebbiolo2
Name
Last modified
Size
Description
Parent Directory
-
checksrc-summary.dcf
10-Apr-2022 10:00
424
buildsrc-summary.dcf
10-Apr-2022 10:00
440
buildsrc-out.txt
10-Apr-2022 10:00
833
checksrc-out.txt
10-Apr-2022 10:00
11K