Index of /checkResults/3.14/bioc-longtests-LATEST/midasHLA/raw-results/riesling1
Name
Last modified
Size
Description
Parent Directory
-
buildsrc-out.txt
10-Apr-2022 10:00
802
buildsrc-summary.dcf
10-Apr-2022 10:00
487
checksrc-out.txt
10-Apr-2022 10:00
5.2K
checksrc-summary.dcf
10-Apr-2022 10:00
463