Index of /checkResults/3.14/bioc-longtests-LATEST/midasHLA/raw-results/machv2
Name
Last modified
Size
Description
Parent Directory
-
checksrc-summary.dcf
10-Apr-2022 10:00
444
checksrc-out.txt
10-Apr-2022 10:00
4.0K
buildsrc-summary.dcf
10-Apr-2022 10:00
461
buildsrc-out.txt
10-Apr-2022 10:00
780