Index of /checkResults/3.14/bioc-longtests-LATEST/biodbLipidmaps/raw-results/machv2
Name
Last modified
Size
Description
Parent Directory
-
buildsrc-out.txt
10-Apr-2022 10:00
804
buildsrc-summary.dcf
10-Apr-2022 10:00
479
checksrc-summary.dcf
10-Apr-2022 10:00
458
checksrc-out.txt
10-Apr-2022 10:00
2.8K