Index of /checkResults/3.14/bioc-longtests-LATEST/ChromSCape/raw-results/riesling1
Name
Last modified
Size
Description
Parent Directory
-
buildsrc-out.txt
10-Apr-2022 10:00
888
buildsrc-summary.dcf
10-Apr-2022 10:00
495
checksrc-out.txt
10-Apr-2022 10:00
7.4K
checksrc-summary.dcf
10-Apr-2022 10:00
469