Long Tests report for BioC 3.14

See here for how to subscribe to these builds.

This page was generated on 2022-01-22 21:00:03 -0500 (Sat, 22 Jan 2022).

Approx. Package Snapshot Date (git pull): 2022-01-22 06:55:01 -0500 (Sat, 22 Jan 2022)

HostnameOSArch (*)R versionInstalled pkgs
nebbiolo2Linux (Ubuntu 20.04.4 LTS)x86_644.1.2 (2021-11-01) -- "Bird Hippie" 4329
riesling1Windows Server 2019 Standardx644.1.2 (2021-11-01) -- "Bird Hippie" 4105
machv2macOS 10.14.6 Mojavex86_644.1.2 (2021-11-01) -- "Bird Hippie" 4140
Click on any hostname to see more info about the system (e.g. compilers)      (*) as reported by 'uname -p', except on Windows and Mac OS X

Package status is indicated by one of the following glyphs
  TIMEOUT  
CHECK of package took more than 360 minutes
  ERROR  
Bad DESCRIPTION file, or CHECK of package produced errors
  WARNINGS  
CHECK of package produced warnings
  OK  
CHECK of package went OK
  NA  
CHECK result is not available because of an anomaly in the Build System
skipped
CHECK of package was skipped because the BUILD step failed
Click on any glyph in the report below to access the detailed report.

QUICK STATSOS / ArchCHECK
nebbiolo2Linux (Ubuntu 20.04.4 LTS) / x86_64
0829
riesling1Windows Server 2019 Standard / x64
01027
machv2macOS 10.14.6 Mojave / x86_64
0829
Package 1/19HostnameOS / ArchCHECK
APAlyzer 1.8.0  (landing page)
Ruijia Wang
git_last_commit: 4df8ba6
git_last_commit_date: 2021-10-26 12:53:30 -0500
nebbiolo2Linux (Ubuntu 20.04.4 LTS) / x86_64  ERROR  
riesling1Windows Server 2019 Standard / x64  ERROR  
machv2macOS 10.14.6 Mojave / x86_64  ERROR  
Package 2/19HostnameOS / ArchCHECK
autonomics 1.2.0  (landing page)
Aditya Bhagwat
git_last_commit: f775f33
git_last_commit_date: 2021-10-26 13:07:36 -0500
nebbiolo2Linux (Ubuntu 20.04.4 LTS) / x86_64  ERROR  
riesling1Windows Server 2019 Standard / x64  ERROR  
machv2macOS 10.14.6 Mojave / x86_64  ERROR  
Package 3/19HostnameOS / ArchCHECK
beachmat 2.10.0  (landing page)
Aaron Lun
git_last_commit: b7cc532
git_last_commit_date: 2021-10-26 12:36:32 -0500
nebbiolo2Linux (Ubuntu 20.04.4 LTS) / x86_64  ERROR  
riesling1Windows Server 2019 Standard / x64  ERROR  
machv2macOS 10.14.6 Mojave / x86_64  ERROR  
Package 4/19HostnameOS / ArchCHECK
biodb 1.2.2  (landing page)
Pierrick Roger
git_last_commit: 79469df
git_last_commit_date: 2021-12-10 12:32:56 -0500
nebbiolo2Linux (Ubuntu 20.04.4 LTS) / x86_64  OK  
riesling1Windows Server 2019 Standard / x64  OK  
machv2macOS 10.14.6 Mojave / x86_64  OK  
Package 5/19HostnameOS / ArchCHECK
biodbChebi 1.0.1  (landing page)
Pierrick Roger
git_last_commit: 35326c0
git_last_commit_date: 2021-10-27 06:00:18 -0500
nebbiolo2Linux (Ubuntu 20.04.4 LTS) / x86_64  OK  
riesling1Windows Server 2019 Standard / x64  OK  
machv2macOS 10.14.6 Mojave / x86_64  OK  
Package 6/19HostnameOS / ArchCHECK
biodbHmdb 1.0.3  (landing page)
Pierrick Roger
git_last_commit: b0dabfe
git_last_commit_date: 2021-11-24 05:04:38 -0500
nebbiolo2Linux (Ubuntu 20.04.4 LTS) / x86_64  OK  
riesling1Windows Server 2019 Standard / x64  OK  
machv2macOS 10.14.6 Mojave / x86_64  OK  
Package 7/19HostnameOS / ArchCHECK
biodbKegg 1.0.0  (landing page)
Pierrick Roger
git_last_commit: 5bb8a8a
git_last_commit_date: 2021-10-26 13:13:42 -0500
nebbiolo2Linux (Ubuntu 20.04.4 LTS) / x86_64  OK  
riesling1Windows Server 2019 Standard / x64  OK  
machv2macOS 10.14.6 Mojave / x86_64  OK  
Package 8/19HostnameOS / ArchCHECK
biodbLipidmaps 1.0.1  (landing page)
Pierrick Roger
git_last_commit: bda9e29
git_last_commit_date: 2021-10-27 16:13:11 -0500
nebbiolo2Linux (Ubuntu 20.04.4 LTS) / x86_64  OK  
riesling1Windows Server 2019 Standard / x64  OK  
machv2macOS 10.14.6 Mojave / x86_64  OK  
Package 9/19HostnameOS / ArchCHECK
biodbUniprot 1.0.0  (landing page)
Pierrick Roger
git_last_commit: 3e54101
git_last_commit_date: 2021-10-26 13:13:21 -0500
nebbiolo2Linux (Ubuntu 20.04.4 LTS) / x86_64  OK  
riesling1Windows Server 2019 Standard / x64  OK  
machv2macOS 10.14.6 Mojave / x86_64  OK  
Package 10/19HostnameOS / ArchCHECK
cBioPortalData 2.6.0  (landing page)
Marcel Ramos
git_last_commit: d8a1095
git_last_commit_date: 2021-10-26 12:59:53 -0500
nebbiolo2Linux (Ubuntu 20.04.4 LTS) / x86_64  WARNINGS  
riesling1Windows Server 2019 Standard / x64  WARNINGS  
machv2macOS 10.14.6 Mojave / x86_64  WARNINGS  
Package 11/19HostnameOS / ArchCHECK
ChromSCape 1.4.0  (landing page)
Pacome Prompsy
git_last_commit: df9f2c5
git_last_commit_date: 2021-10-26 13:03:23 -0500
nebbiolo2Linux (Ubuntu 20.04.4 LTS) / x86_64  ERROR  
riesling1Windows Server 2019 Standard / x64  ERROR  
machv2macOS 10.14.6 Mojave / x86_64  ERROR  
Package 12/19HostnameOS / ArchCHECK
DelayedMatrixStats 1.16.0  (landing page)
Peter Hickey
git_last_commit: d44a3d7
git_last_commit_date: 2021-10-26 12:39:13 -0500
nebbiolo2Linux (Ubuntu 20.04.4 LTS) / x86_64  OK  
riesling1Windows Server 2019 Standard / x64  OK  
machv2macOS 10.14.6 Mojave / x86_64  OK  
Package 13/19HostnameOS / ArchCHECK
DropletUtils 1.14.2  (landing page)
Jonathan Griffiths
git_last_commit: 945504d
git_last_commit_date: 2022-01-08 01:37:27 -0500
nebbiolo2Linux (Ubuntu 20.04.4 LTS) / x86_64  OK  
riesling1Windows Server 2019 Standard / x64  ERROR  
machv2macOS 10.14.6 Mojave / x86_64  OK  
Package 14/19HostnameOS / ArchCHECK
GenomicFeatures 1.46.4  (landing page)
Bioconductor Package Maintainer
git_last_commit: d3ab6fd
git_last_commit_date: 2022-01-19 12:03:06 -0500
nebbiolo2Linux (Ubuntu 20.04.4 LTS) / x86_64  WARNINGS  
riesling1Windows Server 2019 Standard / x64  WARNINGS  
machv2macOS 10.14.6 Mojave / x86_64  WARNINGS  
Package 15/19HostnameOS / ArchCHECK
HDF5Array 1.22.1  (landing page)
Hervé Pagès
git_last_commit: b3f091f
git_last_commit_date: 2021-11-13 16:24:42 -0500
nebbiolo2Linux (Ubuntu 20.04.4 LTS) / x86_64  ERROR  
riesling1Windows Server 2019 Standard / x64  ERROR  
machv2macOS 10.14.6 Mojave / x86_64  ERROR  
Package 16/19HostnameOS / ArchCHECK
midasHLA 1.2.0  (landing page)
Maciej Migdał
git_last_commit: 811d9d5
git_last_commit_date: 2021-10-26 13:07:22 -0500
nebbiolo2Linux (Ubuntu 20.04.4 LTS) / x86_64  ERROR  
riesling1Windows Server 2019 Standard / x64  ERROR  
machv2macOS 10.14.6 Mojave / x86_64  ERROR  
Package 17/19HostnameOS / ArchCHECK
rhdf5 2.38.0  (landing page)
Mike Smith
git_last_commit: f6fdfa8
git_last_commit_date: 2021-10-26 12:01:43 -0500
nebbiolo2Linux (Ubuntu 20.04.4 LTS) / x86_64  OK  
riesling1Windows Server 2019 Standard / x64  ERROR  
machv2macOS 10.14.6 Mojave / x86_64  OK  
Package 18/19HostnameOS / ArchCHECK
xcms 3.16.1  (landing page)
Steffen Neumann
git_last_commit: ed02588
git_last_commit_date: 2021-11-19 10:10:20 -0500
nebbiolo2Linux (Ubuntu 20.04.4 LTS) / x86_64  ERROR  
riesling1Windows Server 2019 Standard / x64  ERROR  
machv2macOS 10.14.6 Mojave / x86_64  ERROR  
Package 19/19HostnameOS / ArchCHECK
zellkonverter 1.4.0  (landing page)
Luke Zappia
git_last_commit: bcef367
git_last_commit_date: 2021-10-26 13:01:57 -0500
nebbiolo2Linux (Ubuntu 20.04.4 LTS) / x86_64  ERROR  
riesling1Windows Server 2019 Standard / x64  ERROR  
machv2macOS 10.14.6 Mojave / x86_64  ERROR