Name | Last modified | Size | Description | |
---|---|---|---|---|
Parent Directory | - | |||
buildbin-out.txt | 14-Apr-2022 01:09 | 7.2K | ||
buildbin-summary.dcf | 14-Apr-2022 01:09 | 513 | ||
buildsrc-out.txt | 14-Apr-2022 01:09 | 897 | ||
buildsrc-summary.dcf | 14-Apr-2022 01:09 | 419 | ||
checksrc-out.txt | 14-Apr-2022 01:09 | 11K | ||
checksrc-summary.dcf | 14-Apr-2022 01:09 | 433 | ||
install-out.txt | 14-Apr-2022 01:09 | 6.4K | ||
install-summary.dcf | 14-Apr-2022 01:09 | 264 | ||