Name | Last modified | Size | Description | |
---|---|---|---|---|
Parent Directory | - | |||
buildbin-summary.dcf | 14-Apr-2022 01:07 | 515 | ||
buildbin-out.txt | 14-Apr-2022 01:07 | 3.6K | ||
checksrc-summary.dcf | 14-Apr-2022 01:07 | 446 | ||
checksrc-out.txt | 14-Apr-2022 01:07 | 4.6K | ||
buildsrc-summary.dcf | 14-Apr-2022 01:07 | 442 | ||
buildsrc-out.txt | 14-Apr-2022 01:07 | 917 | ||
install-summary.dcf | 14-Apr-2022 01:07 | 605 | ||
install-out.txt | 14-Apr-2022 01:07 | 4.3K | ||