Name | Last modified | Size | Description | |
---|---|---|---|---|
Parent Directory | - | |||
install-summary.dcf | 14-Apr-2022 01:08 | 261 | ||
buildsrc-summary.dcf | 14-Apr-2022 01:08 | 415 | ||
checksrc-summary.dcf | 14-Apr-2022 01:08 | 427 | ||
buildbin-summary.dcf | 14-Apr-2022 01:08 | 505 | ||
buildsrc-out.txt | 14-Apr-2022 01:08 | 893 | ||
install-out.txt | 14-Apr-2022 01:08 | 1.9K | ||
buildbin-out.txt | 14-Apr-2022 01:08 | 2.7K | ||
checksrc-out.txt | 14-Apr-2022 01:08 | 3.4K | ||