Name | Last modified | Size | Description | |
---|---|---|---|---|
Parent Directory | - | |||
install-summary.dcf | 14-Apr-2022 01:07 | 704 | ||
install-out.txt | 14-Apr-2022 01:07 | 16K | ||
checksrc-summary.dcf | 14-Apr-2022 01:07 | 490 | ||
checksrc-out.txt | 14-Apr-2022 01:07 | 5.6K | ||
buildsrc-summary.dcf | 14-Apr-2022 01:07 | 487 | ||
buildsrc-out.txt | 14-Apr-2022 01:07 | 972 | ||
buildbin-summary.dcf | 14-Apr-2022 01:07 | 582 | ||
buildbin-out.txt | 14-Apr-2022 01:07 | 16K | ||