Name | Last modified | Size | Description | |
---|---|---|---|---|
Parent Directory | - | |||
install-summary.dcf | 14-Apr-2022 01:06 | 274 | ||
install-out.txt | 14-Apr-2022 01:06 | 6.6K | ||
checksrc-summary.dcf | 14-Apr-2022 01:06 | 452 | ||
checksrc-out.txt | 14-Apr-2022 01:06 | 3.8K | ||
buildsrc-summary.dcf | 14-Apr-2022 01:06 | 439 | ||
buildsrc-out.txt | 14-Apr-2022 01:06 | 927 | ||