Name | Last modified | Size | Description | |
---|---|---|---|---|
Parent Directory | - | |||
buildbin-out.txt | 14-Apr-2022 01:08 | 9.0K | ||
buildbin-summary.dcf | 14-Apr-2022 01:08 | 573 | ||
buildsrc-out.txt | 14-Apr-2022 01:08 | 937 | ||
buildsrc-summary.dcf | 14-Apr-2022 01:08 | 449 | ||
checksrc-out.txt | 14-Apr-2022 01:08 | 4.0K | ||
checksrc-summary.dcf | 14-Apr-2022 01:08 | 472 | ||
install-out.txt | 14-Apr-2022 01:08 | 8.0K | ||
install-summary.dcf | 14-Apr-2022 01:08 | 284 | ||