Name | Last modified | Size | Description | |
---|---|---|---|---|
Parent Directory | - | |||
install-out.txt | 14-Apr-2022 01:08 | 1.6K | ||
install-summary.dcf | 14-Apr-2022 01:08 | 265 | ||
buildsrc-out.txt | 14-Apr-2022 01:08 | 901 | ||
buildsrc-summary.dcf | 14-Apr-2022 01:08 | 422 | ||
checksrc-out.txt | 14-Apr-2022 01:08 | 3.4K | ||
checksrc-summary.dcf | 14-Apr-2022 01:08 | 436 | ||
buildbin-out.txt | 14-Apr-2022 01:08 | 2.4K | ||
buildbin-summary.dcf | 14-Apr-2022 01:08 | 518 | ||