Name | Last modified | Size | Description | |
---|---|---|---|---|
Parent Directory | - | |||
install-out.txt | 14-Apr-2022 01:07 | 21K | ||
install-summary.dcf | 14-Apr-2022 01:07 | 668 | ||
buildsrc-out.txt | 14-Apr-2022 01:07 | 972 | ||
buildsrc-summary.dcf | 14-Apr-2022 01:07 | 470 | ||
checksrc-out.txt | 14-Apr-2022 01:07 | 5.2K | ||
checksrc-summary.dcf | 14-Apr-2022 01:07 | 474 | ||
buildbin-out.txt | 14-Apr-2022 01:07 | 20K | ||
buildbin-summary.dcf | 14-Apr-2022 01:07 | 557 | ||