Name | Last modified | Size | Description | |
---|---|---|---|---|
Parent Directory | - | |||
install-summary.dcf | 14-Apr-2022 01:07 | 643 | ||
install-out.txt | 14-Apr-2022 01:07 | 3.4K | ||
checksrc-summary.dcf | 14-Apr-2022 01:07 | 464 | ||
checksrc-out.txt | 14-Apr-2022 01:07 | 3.8K | ||
buildsrc-summary.dcf | 14-Apr-2022 01:07 | 459 | ||
buildsrc-out.txt | 14-Apr-2022 01:07 | 909 | ||
buildbin-summary.dcf | 14-Apr-2022 01:07 | 542 | ||
buildbin-out.txt | 14-Apr-2022 01:07 | 2.6K | ||