Name | Last modified | Size | Description | |
---|---|---|---|---|
Parent Directory | - | |||
install-out.txt | 14-Apr-2022 01:07 | 4.2K | ||
install-summary.dcf | 14-Apr-2022 01:07 | 650 | ||
buildsrc-out.txt | 14-Apr-2022 01:07 | 910 | ||
buildsrc-summary.dcf | 14-Apr-2022 01:07 | 462 | ||
checksrc-out.txt | 14-Apr-2022 01:07 | 3.5K | ||
checksrc-summary.dcf | 14-Apr-2022 01:07 | 466 | ||
buildbin-out.txt | 14-Apr-2022 01:07 | 3.4K | ||
buildbin-summary.dcf | 14-Apr-2022 01:07 | 545 | ||