Index of /checkResults/3.14/bioc-LATEST/snapCGH/raw-results
Name
Last modified
Size
Description
Parent Directory
-
info.dcf
14-Apr-2022 01:08
268
machv2/
14-Apr-2022 01:08
-
nebbiolo2/
14-Apr-2022 01:05
-
tokay2/
14-Apr-2022 01:07
-