Name | Last modified | Size | Description | |
---|---|---|---|---|
Parent Directory | - | |||
buildbin-summary.dcf | 14-Apr-2022 01:07 | 566 | ||
buildbin-out.txt | 14-Apr-2022 01:07 | 12K | ||
checksrc-summary.dcf | 14-Apr-2022 01:07 | 517 | ||
checksrc-out.txt | 14-Apr-2022 01:07 | 5.4K | ||
buildsrc-summary.dcf | 14-Apr-2022 01:07 | 476 | ||
buildsrc-out.txt | 14-Apr-2022 01:07 | 869 | ||
install-summary.dcf | 14-Apr-2022 01:07 | 680 | ||
install-out.txt | 14-Apr-2022 01:07 | 13K | ||