Name | Last modified | Size | Description | |
---|---|---|---|---|
Parent Directory | - | |||
buildsrc-out.txt | 14-Apr-2022 01:05 | 825 | ||
buildsrc-summary.dcf | 14-Apr-2022 01:05 | 430 | ||
checksrc-out.txt | 14-Apr-2022 01:05 | 4.5K | ||
checksrc-summary.dcf | 14-Apr-2022 01:05 | 442 | ||
install-out.txt | 14-Apr-2022 01:05 | 1.0K | ||
install-summary.dcf | 14-Apr-2022 01:05 | 268 | ||