Name | Last modified | Size | Description | |
---|---|---|---|---|
Parent Directory | - | |||
buildbin-out.txt | 14-Apr-2022 01:07 | 3.9K | ||
buildbin-summary.dcf | 14-Apr-2022 01:07 | 601 | ||
buildsrc-out.txt | 14-Apr-2022 01:07 | 899 | ||
buildsrc-summary.dcf | 14-Apr-2022 01:07 | 501 | ||
checksrc-out.txt | 14-Apr-2022 01:07 | 3.9K | ||
checksrc-summary.dcf | 14-Apr-2022 01:07 | 504 | ||
install-out.txt | 14-Apr-2022 01:07 | 5.1K | ||
install-summary.dcf | 14-Apr-2022 01:07 | 734 | ||