Name | Last modified | Size | Description | |
---|---|---|---|---|
Parent Directory | - | |||
buildbin-out.txt | 14-Apr-2022 01:08 | 3.3K | ||
buildbin-summary.dcf | 14-Apr-2022 01:08 | 576 | ||
buildsrc-out.txt | 14-Apr-2022 01:08 | 877 | ||
buildsrc-summary.dcf | 14-Apr-2022 01:08 | 450 | ||
checksrc-out.txt | 14-Apr-2022 01:08 | 4.1K | ||
checksrc-summary.dcf | 14-Apr-2022 01:08 | 475 | ||
install-out.txt | 14-Apr-2022 01:08 | 2.4K | ||
install-summary.dcf | 14-Apr-2022 01:08 | 285 | ||