Name | Last modified | Size | Description | |
---|---|---|---|---|
Parent Directory | - | |||
buildsrc-summary.dcf | 14-Apr-2022 01:07 | 474 | ||
checksrc-summary.dcf | 14-Apr-2022 01:07 | 484 | ||
buildbin-summary.dcf | 14-Apr-2022 01:07 | 563 | ||
install-summary.dcf | 14-Apr-2022 01:07 | 676 | ||
buildsrc-out.txt | 14-Apr-2022 01:07 | 1.2K | ||
buildbin-out.txt | 14-Apr-2022 01:07 | 2.3K | ||
install-out.txt | 14-Apr-2022 01:07 | 3.0K | ||
checksrc-out.txt | 14-Apr-2022 01:07 | 9.0K | ||