Name | Last modified | Size | Description | |
---|---|---|---|---|
Parent Directory | - | |||
buildsrc-summary.dcf | 14-Apr-2022 01:07 | 468 | ||
checksrc-summary.dcf | 14-Apr-2022 01:07 | 472 | ||
buildbin-summary.dcf | 14-Apr-2022 01:07 | 554 | ||
install-summary.dcf | 14-Apr-2022 01:07 | 661 | ||
buildsrc-out.txt | 14-Apr-2022 01:07 | 859 | ||
buildbin-out.txt | 14-Apr-2022 01:07 | 1.9K | ||
install-out.txt | 14-Apr-2022 01:07 | 2.7K | ||
checksrc-out.txt | 14-Apr-2022 01:07 | 4.0K | ||