Name | Last modified | Size | Description | |
---|---|---|---|---|
Parent Directory | - | |||
buildbin-out.txt | 14-Apr-2022 01:07 | 3.3K | ||
buildbin-summary.dcf | 14-Apr-2022 01:07 | 551 | ||
buildsrc-out.txt | 14-Apr-2022 01:07 | 855 | ||
buildsrc-summary.dcf | 14-Apr-2022 01:07 | 467 | ||
checksrc-out.txt | 14-Apr-2022 01:07 | 4.3K | ||
checksrc-summary.dcf | 14-Apr-2022 01:07 | 470 | ||
install-out.txt | 14-Apr-2022 01:07 | 4.2K | ||
install-summary.dcf | 14-Apr-2022 01:07 | 658 | ||