Name | Last modified | Size | Description | |
---|---|---|---|---|
Parent Directory | - | |||
buildbin-out.txt | 14-Apr-2022 01:07 | 4.8K | ||
buildbin-summary.dcf | 14-Apr-2022 01:07 | 556 | ||
buildsrc-out.txt | 14-Apr-2022 01:07 | 860 | ||
buildsrc-summary.dcf | 14-Apr-2022 01:07 | 471 | ||
checksrc-out.txt | 14-Apr-2022 01:07 | 4.3K | ||
checksrc-summary.dcf | 14-Apr-2022 01:07 | 474 | ||
install-out.txt | 14-Apr-2022 01:07 | 5.5K | ||
install-summary.dcf | 14-Apr-2022 01:07 | 668 | ||