Name | Last modified | Size | Description | |
---|---|---|---|---|
Parent Directory | - | |||
buildbin-out.txt | 14-Apr-2022 01:07 | 20K | ||
buildbin-summary.dcf | 14-Apr-2022 01:07 | 521 | ||
buildsrc-out.txt | 14-Apr-2022 01:07 | 922 | ||
buildsrc-summary.dcf | 14-Apr-2022 01:07 | 446 | ||
checksrc-out.txt | 14-Apr-2022 01:07 | 8.3K | ||
checksrc-summary.dcf | 14-Apr-2022 01:07 | 455 | ||
install-out.txt | 14-Apr-2022 01:07 | 20K | ||
install-summary.dcf | 14-Apr-2022 01:07 | 614 | ||