Name | Last modified | Size | Description | |
---|---|---|---|---|
Parent Directory | - | |||
install-summary.dcf | 14-Apr-2022 01:07 | 640 | ||
install-out.txt | 14-Apr-2022 01:07 | 2.3K | ||
checksrc-summary.dcf | 14-Apr-2022 01:07 | 468 | ||
checksrc-out.txt | 14-Apr-2022 01:07 | 4.0K | ||
buildsrc-summary.dcf | 14-Apr-2022 01:07 | 458 | ||
buildsrc-out.txt | 14-Apr-2022 01:07 | 905 | ||
buildbin-summary.dcf | 14-Apr-2022 01:07 | 539 | ||
buildbin-out.txt | 14-Apr-2022 01:07 | 1.7K | ||