Name | Last modified | Size | Description | |
---|---|---|---|---|
Parent Directory | - | |||
install-summary.dcf | 14-Apr-2022 01:05 | 253 | ||
install-out.txt | 14-Apr-2022 01:05 | 5.7K | ||
checksrc-summary.dcf | 14-Apr-2022 01:05 | 418 | ||
checksrc-out.txt | 14-Apr-2022 01:05 | 7.1K | ||
buildsrc-summary.dcf | 14-Apr-2022 01:05 | 409 | ||
buildsrc-out.txt | 14-Apr-2022 01:05 | 824 | ||