Name | Last modified | Size | Description | |
---|---|---|---|---|
Parent Directory | - | |||
checksrc-out.txt | 14-Apr-2022 01:07 | 4.9K | ||
install-out.txt | 14-Apr-2022 01:07 | 2.6K | ||
buildbin-out.txt | 14-Apr-2022 01:07 | 1.9K | ||
buildsrc-out.txt | 14-Apr-2022 01:07 | 910 | ||
install-summary.dcf | 14-Apr-2022 01:07 | 649 | ||
buildbin-summary.dcf | 14-Apr-2022 01:07 | 545 | ||
checksrc-summary.dcf | 14-Apr-2022 01:07 | 465 | ||
buildsrc-summary.dcf | 14-Apr-2022 01:07 | 462 | ||