Name | Last modified | Size | Description | |
---|---|---|---|---|
Parent Directory | - | |||
install-out.txt | 14-Apr-2022 01:07 | 4.1K | ||
install-summary.dcf | 14-Apr-2022 01:07 | 671 | ||
buildsrc-out.txt | 14-Apr-2022 01:07 | 924 | ||
buildsrc-summary.dcf | 14-Apr-2022 01:07 | 473 | ||
checksrc-out.txt | 14-Apr-2022 01:07 | 3.8K | ||
checksrc-summary.dcf | 14-Apr-2022 01:07 | 476 | ||
buildbin-out.txt | 14-Apr-2022 01:07 | 3.4K | ||
buildbin-summary.dcf | 14-Apr-2022 01:07 | 560 | ||