Name | Last modified | Size | Description | |
---|---|---|---|---|
Parent Directory | - | |||
buildbin-out.txt | 14-Apr-2022 01:07 | 1.8K | ||
buildbin-summary.dcf | 14-Apr-2022 01:07 | 539 | ||
buildsrc-out.txt | 14-Apr-2022 01:07 | 845 | ||
buildsrc-summary.dcf | 14-Apr-2022 01:07 | 459 | ||
checksrc-out.txt | 14-Apr-2022 01:07 | 4.2K | ||
checksrc-summary.dcf | 14-Apr-2022 01:07 | 462 | ||
install-out.txt | 14-Apr-2022 01:07 | 2.7K | ||
install-summary.dcf | 14-Apr-2022 01:07 | 640 | ||