Name | Last modified | Size | Description | |
---|---|---|---|---|
Parent Directory | - | |||
buildbin-out.txt | 14-Apr-2022 01:07 | 3.7K | ||
buildbin-summary.dcf | 14-Apr-2022 01:07 | 527 | ||
buildsrc-out.txt | 14-Apr-2022 01:07 | 835 | ||
buildsrc-summary.dcf | 14-Apr-2022 01:07 | 451 | ||
checksrc-out.txt | 14-Apr-2022 01:07 | 5.3K | ||
checksrc-summary.dcf | 14-Apr-2022 01:07 | 454 | ||
install-out.txt | 14-Apr-2022 01:07 | 4.3K | ||
install-summary.dcf | 14-Apr-2022 01:07 | 623 | ||